BEGIN:VCALENDAR
VERSION:2.0
PRODID:-//Village Faire - ECPv6.15.20//NONSGML v1.0//EN
CALSCALE:GREGORIAN
METHOD:PUBLISH
X-WR-CALNAME:Village Faire
X-ORIGINAL-URL:https://www.shopvillagefaire.com
X-WR-CALDESC:Events for Village Faire
REFRESH-INTERVAL;VALUE=DURATION:PT1H
X-Robots-Tag:noindex
X-PUBLISHED-TTL:PT1H
BEGIN:VTIMEZONE
TZID:America/Los_Angeles
BEGIN:DAYLIGHT
TZOFFSETFROM:-0800
TZOFFSETTO:-0700
TZNAME:PDT
DTSTART:20260308T100000
END:DAYLIGHT
BEGIN:STANDARD
TZOFFSETFROM:-0700
TZOFFSETTO:-0800
TZNAME:PST
DTSTART:20261101T090000
END:STANDARD
BEGIN:DAYLIGHT
TZOFFSETFROM:-0800
TZOFFSETTO:-0700
TZNAME:PDT
DTSTART:20270314T100000
END:DAYLIGHT
BEGIN:STANDARD
TZOFFSETFROM:-0700
TZOFFSETTO:-0800
TZNAME:PST
DTSTART:20271107T090000
END:STANDARD
BEGIN:DAYLIGHT
TZOFFSETFROM:-0800
TZOFFSETTO:-0700
TZNAME:PDT
DTSTART:20280312T100000
END:DAYLIGHT
BEGIN:STANDARD
TZOFFSETFROM:-0700
TZOFFSETTO:-0800
TZNAME:PST
DTSTART:20281105T090000
END:STANDARD
END:VTIMEZONE
BEGIN:VEVENT
DTSTART;TZID=America/Los_Angeles:20270827T220000
DTEND;TZID=America/Los_Angeles:20270827T235900
DTSTAMP:20260422T041325
CREATED:20260309T214010Z
LAST-MODIFIED:20260309T214010Z
UID:10008219-1819404000-1819411140@www.shopvillagefaire.com
SUMMARY:After Hours Music with rotation DJs (Same Same)
DESCRIPTION:Late nights\, loud vibes.\nEvery week at Same Same \n10 PM til the mood says otherwise. \nNo cover\, no rules—just music.
URL:https://www.shopvillagefaire.com/event/friday-night-djs-same-same/2027-08-27/
LOCATION:Same Same\, 300 Carlsbad Village Dr Suite 213\, Carlsbad\, CA\, 92008\, United States
CATEGORIES:Live Music
ATTACH;FMTTYPE=image/png:https://www.shopvillagefaire.com/wp-content/uploads/2025/03/Friday-Night-After-Hours-Music-with-rotating-DJs-Same-Same.png
ORGANIZER;CN="Same Same":MAILTO:sup@samesamecarlsbad.com
END:VEVENT
BEGIN:VEVENT
DTSTART;TZID=America/Los_Angeles:20270828T220000
DTEND;TZID=America/Los_Angeles:20270828T235900
DTSTAMP:20260422T041325
CREATED:20260309T214133Z
LAST-MODIFIED:20260309T214401Z
UID:10008741-1819490400-1819497540@www.shopvillagefaire.com
SUMMARY:After Hours Music with rotation DJs (Same Same)
DESCRIPTION:Late nights\, loud vibes.\nEvery week at Same Same \n10 PM til the mood says otherwise. \nNo cover\, no rules—just music.
URL:https://www.shopvillagefaire.com/event/saturday-night-djs-same-same/2027-08-28/
LOCATION:Same Same\, 300 Carlsbad Village Dr Suite 213\, Carlsbad\, CA\, 92008\, United States
CATEGORIES:Live Music
ATTACH;FMTTYPE=image/png:https://www.shopvillagefaire.com/wp-content/uploads/2025/03/Saturday-Night-After-Hours-Music-with-rotating-DJs-Same-Same.png
ORGANIZER;CN="Same Same":MAILTO:sup@samesamecarlsbad.com
END:VEVENT
BEGIN:VEVENT
DTSTART;TZID=America/Los_Angeles:20270903T220000
DTEND;TZID=America/Los_Angeles:20270903T235900
DTSTAMP:20260422T041325
CREATED:20260309T214010Z
LAST-MODIFIED:20260309T214010Z
UID:10008220-1820008800-1820015940@www.shopvillagefaire.com
SUMMARY:After Hours Music with rotation DJs (Same Same)
DESCRIPTION:Late nights\, loud vibes.\nEvery week at Same Same \n10 PM til the mood says otherwise. \nNo cover\, no rules—just music.
URL:https://www.shopvillagefaire.com/event/friday-night-djs-same-same/2027-09-03/
LOCATION:Same Same\, 300 Carlsbad Village Dr Suite 213\, Carlsbad\, CA\, 92008\, United States
CATEGORIES:Live Music
ATTACH;FMTTYPE=image/png:https://www.shopvillagefaire.com/wp-content/uploads/2025/03/Friday-Night-After-Hours-Music-with-rotating-DJs-Same-Same.png
ORGANIZER;CN="Same Same":MAILTO:sup@samesamecarlsbad.com
END:VEVENT
BEGIN:VEVENT
DTSTART;TZID=America/Los_Angeles:20270904T220000
DTEND;TZID=America/Los_Angeles:20270904T235900
DTSTAMP:20260422T041325
CREATED:20260309T214133Z
LAST-MODIFIED:20260309T214401Z
UID:10008742-1820095200-1820102340@www.shopvillagefaire.com
SUMMARY:After Hours Music with rotation DJs (Same Same)
DESCRIPTION:Late nights\, loud vibes.\nEvery week at Same Same \n10 PM til the mood says otherwise. \nNo cover\, no rules—just music.
URL:https://www.shopvillagefaire.com/event/saturday-night-djs-same-same/2027-09-04/
LOCATION:Same Same\, 300 Carlsbad Village Dr Suite 213\, Carlsbad\, CA\, 92008\, United States
CATEGORIES:Live Music
ATTACH;FMTTYPE=image/png:https://www.shopvillagefaire.com/wp-content/uploads/2025/03/Saturday-Night-After-Hours-Music-with-rotating-DJs-Same-Same.png
ORGANIZER;CN="Same Same":MAILTO:sup@samesamecarlsbad.com
END:VEVENT
BEGIN:VEVENT
DTSTART;TZID=America/Los_Angeles:20270910T220000
DTEND;TZID=America/Los_Angeles:20270910T235900
DTSTAMP:20260422T041325
CREATED:20260309T214010Z
LAST-MODIFIED:20260309T214010Z
UID:10008221-1820613600-1820620740@www.shopvillagefaire.com
SUMMARY:After Hours Music with rotation DJs (Same Same)
DESCRIPTION:Late nights\, loud vibes.\nEvery week at Same Same \n10 PM til the mood says otherwise. \nNo cover\, no rules—just music.
URL:https://www.shopvillagefaire.com/event/friday-night-djs-same-same/2027-09-10/
LOCATION:Same Same\, 300 Carlsbad Village Dr Suite 213\, Carlsbad\, CA\, 92008\, United States
CATEGORIES:Live Music
ATTACH;FMTTYPE=image/png:https://www.shopvillagefaire.com/wp-content/uploads/2025/03/Friday-Night-After-Hours-Music-with-rotating-DJs-Same-Same.png
ORGANIZER;CN="Same Same":MAILTO:sup@samesamecarlsbad.com
END:VEVENT
BEGIN:VEVENT
DTSTART;TZID=America/Los_Angeles:20270911T220000
DTEND;TZID=America/Los_Angeles:20270911T235900
DTSTAMP:20260422T041325
CREATED:20260309T214133Z
LAST-MODIFIED:20260309T214401Z
UID:10008743-1820700000-1820707140@www.shopvillagefaire.com
SUMMARY:After Hours Music with rotation DJs (Same Same)
DESCRIPTION:Late nights\, loud vibes.\nEvery week at Same Same \n10 PM til the mood says otherwise. \nNo cover\, no rules—just music.
URL:https://www.shopvillagefaire.com/event/saturday-night-djs-same-same/2027-09-11/
LOCATION:Same Same\, 300 Carlsbad Village Dr Suite 213\, Carlsbad\, CA\, 92008\, United States
CATEGORIES:Live Music
ATTACH;FMTTYPE=image/png:https://www.shopvillagefaire.com/wp-content/uploads/2025/03/Saturday-Night-After-Hours-Music-with-rotating-DJs-Same-Same.png
ORGANIZER;CN="Same Same":MAILTO:sup@samesamecarlsbad.com
END:VEVENT
BEGIN:VEVENT
DTSTART;TZID=America/Los_Angeles:20270917T220000
DTEND;TZID=America/Los_Angeles:20270917T235900
DTSTAMP:20260422T041325
CREATED:20260309T214010Z
LAST-MODIFIED:20260309T214010Z
UID:10008222-1821218400-1821225540@www.shopvillagefaire.com
SUMMARY:After Hours Music with rotation DJs (Same Same)
DESCRIPTION:Late nights\, loud vibes.\nEvery week at Same Same \n10 PM til the mood says otherwise. \nNo cover\, no rules—just music.
URL:https://www.shopvillagefaire.com/event/friday-night-djs-same-same/2027-09-17/
LOCATION:Same Same\, 300 Carlsbad Village Dr Suite 213\, Carlsbad\, CA\, 92008\, United States
CATEGORIES:Live Music
ATTACH;FMTTYPE=image/png:https://www.shopvillagefaire.com/wp-content/uploads/2025/03/Friday-Night-After-Hours-Music-with-rotating-DJs-Same-Same.png
ORGANIZER;CN="Same Same":MAILTO:sup@samesamecarlsbad.com
END:VEVENT
BEGIN:VEVENT
DTSTART;TZID=America/Los_Angeles:20270918T220000
DTEND;TZID=America/Los_Angeles:20270918T235900
DTSTAMP:20260422T041325
CREATED:20260309T214133Z
LAST-MODIFIED:20260309T214401Z
UID:10008744-1821304800-1821311940@www.shopvillagefaire.com
SUMMARY:After Hours Music with rotation DJs (Same Same)
DESCRIPTION:Late nights\, loud vibes.\nEvery week at Same Same \n10 PM til the mood says otherwise. \nNo cover\, no rules—just music.
URL:https://www.shopvillagefaire.com/event/saturday-night-djs-same-same/2027-09-18/
LOCATION:Same Same\, 300 Carlsbad Village Dr Suite 213\, Carlsbad\, CA\, 92008\, United States
CATEGORIES:Live Music
ATTACH;FMTTYPE=image/png:https://www.shopvillagefaire.com/wp-content/uploads/2025/03/Saturday-Night-After-Hours-Music-with-rotating-DJs-Same-Same.png
ORGANIZER;CN="Same Same":MAILTO:sup@samesamecarlsbad.com
END:VEVENT
BEGIN:VEVENT
DTSTART;TZID=America/Los_Angeles:20270924T220000
DTEND;TZID=America/Los_Angeles:20270924T235900
DTSTAMP:20260422T041325
CREATED:20260309T214010Z
LAST-MODIFIED:20260309T214010Z
UID:10008223-1821823200-1821830340@www.shopvillagefaire.com
SUMMARY:After Hours Music with rotation DJs (Same Same)
DESCRIPTION:Late nights\, loud vibes.\nEvery week at Same Same \n10 PM til the mood says otherwise. \nNo cover\, no rules—just music.
URL:https://www.shopvillagefaire.com/event/friday-night-djs-same-same/2027-09-24/
LOCATION:Same Same\, 300 Carlsbad Village Dr Suite 213\, Carlsbad\, CA\, 92008\, United States
CATEGORIES:Live Music
ATTACH;FMTTYPE=image/png:https://www.shopvillagefaire.com/wp-content/uploads/2025/03/Friday-Night-After-Hours-Music-with-rotating-DJs-Same-Same.png
ORGANIZER;CN="Same Same":MAILTO:sup@samesamecarlsbad.com
END:VEVENT
BEGIN:VEVENT
DTSTART;TZID=America/Los_Angeles:20270925T220000
DTEND;TZID=America/Los_Angeles:20270925T235900
DTSTAMP:20260422T041325
CREATED:20260309T214133Z
LAST-MODIFIED:20260309T214401Z
UID:10008745-1821909600-1821916740@www.shopvillagefaire.com
SUMMARY:After Hours Music with rotation DJs (Same Same)
DESCRIPTION:Late nights\, loud vibes.\nEvery week at Same Same \n10 PM til the mood says otherwise. \nNo cover\, no rules—just music.
URL:https://www.shopvillagefaire.com/event/saturday-night-djs-same-same/2027-09-25/
LOCATION:Same Same\, 300 Carlsbad Village Dr Suite 213\, Carlsbad\, CA\, 92008\, United States
CATEGORIES:Live Music
ATTACH;FMTTYPE=image/png:https://www.shopvillagefaire.com/wp-content/uploads/2025/03/Saturday-Night-After-Hours-Music-with-rotating-DJs-Same-Same.png
ORGANIZER;CN="Same Same":MAILTO:sup@samesamecarlsbad.com
END:VEVENT
BEGIN:VEVENT
DTSTART;TZID=America/Los_Angeles:20271001T220000
DTEND;TZID=America/Los_Angeles:20271001T235900
DTSTAMP:20260422T041325
CREATED:20260309T214010Z
LAST-MODIFIED:20260309T214010Z
UID:10008224-1822428000-1822435140@www.shopvillagefaire.com
SUMMARY:After Hours Music with rotation DJs (Same Same)
DESCRIPTION:Late nights\, loud vibes.\nEvery week at Same Same \n10 PM til the mood says otherwise. \nNo cover\, no rules—just music.
URL:https://www.shopvillagefaire.com/event/friday-night-djs-same-same/2027-10-01/
LOCATION:Same Same\, 300 Carlsbad Village Dr Suite 213\, Carlsbad\, CA\, 92008\, United States
CATEGORIES:Live Music
ATTACH;FMTTYPE=image/png:https://www.shopvillagefaire.com/wp-content/uploads/2025/03/Friday-Night-After-Hours-Music-with-rotating-DJs-Same-Same.png
ORGANIZER;CN="Same Same":MAILTO:sup@samesamecarlsbad.com
END:VEVENT
BEGIN:VEVENT
DTSTART;TZID=America/Los_Angeles:20271002T220000
DTEND;TZID=America/Los_Angeles:20271002T235900
DTSTAMP:20260422T041325
CREATED:20260309T214133Z
LAST-MODIFIED:20260309T214401Z
UID:10008746-1822514400-1822521540@www.shopvillagefaire.com
SUMMARY:After Hours Music with rotation DJs (Same Same)
DESCRIPTION:Late nights\, loud vibes.\nEvery week at Same Same \n10 PM til the mood says otherwise. \nNo cover\, no rules—just music.
URL:https://www.shopvillagefaire.com/event/saturday-night-djs-same-same/2027-10-02/
LOCATION:Same Same\, 300 Carlsbad Village Dr Suite 213\, Carlsbad\, CA\, 92008\, United States
CATEGORIES:Live Music
ATTACH;FMTTYPE=image/png:https://www.shopvillagefaire.com/wp-content/uploads/2025/03/Saturday-Night-After-Hours-Music-with-rotating-DJs-Same-Same.png
ORGANIZER;CN="Same Same":MAILTO:sup@samesamecarlsbad.com
END:VEVENT
BEGIN:VEVENT
DTSTART;TZID=America/Los_Angeles:20271008T220000
DTEND;TZID=America/Los_Angeles:20271008T235900
DTSTAMP:20260422T041325
CREATED:20260309T214010Z
LAST-MODIFIED:20260309T214010Z
UID:10008225-1823032800-1823039940@www.shopvillagefaire.com
SUMMARY:After Hours Music with rotation DJs (Same Same)
DESCRIPTION:Late nights\, loud vibes.\nEvery week at Same Same \n10 PM til the mood says otherwise. \nNo cover\, no rules—just music.
URL:https://www.shopvillagefaire.com/event/friday-night-djs-same-same/2027-10-08/
LOCATION:Same Same\, 300 Carlsbad Village Dr Suite 213\, Carlsbad\, CA\, 92008\, United States
CATEGORIES:Live Music
ATTACH;FMTTYPE=image/png:https://www.shopvillagefaire.com/wp-content/uploads/2025/03/Friday-Night-After-Hours-Music-with-rotating-DJs-Same-Same.png
ORGANIZER;CN="Same Same":MAILTO:sup@samesamecarlsbad.com
END:VEVENT
BEGIN:VEVENT
DTSTART;TZID=America/Los_Angeles:20271009T220000
DTEND;TZID=America/Los_Angeles:20271009T235900
DTSTAMP:20260422T041325
CREATED:20260309T214133Z
LAST-MODIFIED:20260309T214401Z
UID:10008747-1823119200-1823126340@www.shopvillagefaire.com
SUMMARY:After Hours Music with rotation DJs (Same Same)
DESCRIPTION:Late nights\, loud vibes.\nEvery week at Same Same \n10 PM til the mood says otherwise. \nNo cover\, no rules—just music.
URL:https://www.shopvillagefaire.com/event/saturday-night-djs-same-same/2027-10-09/
LOCATION:Same Same\, 300 Carlsbad Village Dr Suite 213\, Carlsbad\, CA\, 92008\, United States
CATEGORIES:Live Music
ATTACH;FMTTYPE=image/png:https://www.shopvillagefaire.com/wp-content/uploads/2025/03/Saturday-Night-After-Hours-Music-with-rotating-DJs-Same-Same.png
ORGANIZER;CN="Same Same":MAILTO:sup@samesamecarlsbad.com
END:VEVENT
BEGIN:VEVENT
DTSTART;TZID=America/Los_Angeles:20271015T220000
DTEND;TZID=America/Los_Angeles:20271015T235900
DTSTAMP:20260422T041325
CREATED:20260309T214010Z
LAST-MODIFIED:20260309T214010Z
UID:10008226-1823637600-1823644740@www.shopvillagefaire.com
SUMMARY:After Hours Music with rotation DJs (Same Same)
DESCRIPTION:Late nights\, loud vibes.\nEvery week at Same Same \n10 PM til the mood says otherwise. \nNo cover\, no rules—just music.
URL:https://www.shopvillagefaire.com/event/friday-night-djs-same-same/2027-10-15/
LOCATION:Same Same\, 300 Carlsbad Village Dr Suite 213\, Carlsbad\, CA\, 92008\, United States
CATEGORIES:Live Music
ATTACH;FMTTYPE=image/png:https://www.shopvillagefaire.com/wp-content/uploads/2025/03/Friday-Night-After-Hours-Music-with-rotating-DJs-Same-Same.png
ORGANIZER;CN="Same Same":MAILTO:sup@samesamecarlsbad.com
END:VEVENT
BEGIN:VEVENT
DTSTART;TZID=America/Los_Angeles:20271016T220000
DTEND;TZID=America/Los_Angeles:20271016T235900
DTSTAMP:20260422T041325
CREATED:20260309T214133Z
LAST-MODIFIED:20260309T214401Z
UID:10008748-1823724000-1823731140@www.shopvillagefaire.com
SUMMARY:After Hours Music with rotation DJs (Same Same)
DESCRIPTION:Late nights\, loud vibes.\nEvery week at Same Same \n10 PM til the mood says otherwise. \nNo cover\, no rules—just music.
URL:https://www.shopvillagefaire.com/event/saturday-night-djs-same-same/2027-10-16/
LOCATION:Same Same\, 300 Carlsbad Village Dr Suite 213\, Carlsbad\, CA\, 92008\, United States
CATEGORIES:Live Music
ATTACH;FMTTYPE=image/png:https://www.shopvillagefaire.com/wp-content/uploads/2025/03/Saturday-Night-After-Hours-Music-with-rotating-DJs-Same-Same.png
ORGANIZER;CN="Same Same":MAILTO:sup@samesamecarlsbad.com
END:VEVENT
BEGIN:VEVENT
DTSTART;TZID=America/Los_Angeles:20271022T220000
DTEND;TZID=America/Los_Angeles:20271022T235900
DTSTAMP:20260422T041325
CREATED:20260309T214010Z
LAST-MODIFIED:20260309T214010Z
UID:10008227-1824242400-1824249540@www.shopvillagefaire.com
SUMMARY:After Hours Music with rotation DJs (Same Same)
DESCRIPTION:Late nights\, loud vibes.\nEvery week at Same Same \n10 PM til the mood says otherwise. \nNo cover\, no rules—just music.
URL:https://www.shopvillagefaire.com/event/friday-night-djs-same-same/2027-10-22/
LOCATION:Same Same\, 300 Carlsbad Village Dr Suite 213\, Carlsbad\, CA\, 92008\, United States
CATEGORIES:Live Music
ATTACH;FMTTYPE=image/png:https://www.shopvillagefaire.com/wp-content/uploads/2025/03/Friday-Night-After-Hours-Music-with-rotating-DJs-Same-Same.png
ORGANIZER;CN="Same Same":MAILTO:sup@samesamecarlsbad.com
END:VEVENT
BEGIN:VEVENT
DTSTART;TZID=America/Los_Angeles:20271023T220000
DTEND;TZID=America/Los_Angeles:20271023T235900
DTSTAMP:20260422T041325
CREATED:20260309T214133Z
LAST-MODIFIED:20260309T214401Z
UID:10008749-1824328800-1824335940@www.shopvillagefaire.com
SUMMARY:After Hours Music with rotation DJs (Same Same)
DESCRIPTION:Late nights\, loud vibes.\nEvery week at Same Same \n10 PM til the mood says otherwise. \nNo cover\, no rules—just music.
URL:https://www.shopvillagefaire.com/event/saturday-night-djs-same-same/2027-10-23/
LOCATION:Same Same\, 300 Carlsbad Village Dr Suite 213\, Carlsbad\, CA\, 92008\, United States
CATEGORIES:Live Music
ATTACH;FMTTYPE=image/png:https://www.shopvillagefaire.com/wp-content/uploads/2025/03/Saturday-Night-After-Hours-Music-with-rotating-DJs-Same-Same.png
ORGANIZER;CN="Same Same":MAILTO:sup@samesamecarlsbad.com
END:VEVENT
BEGIN:VEVENT
DTSTART;TZID=America/Los_Angeles:20271029T220000
DTEND;TZID=America/Los_Angeles:20271029T235900
DTSTAMP:20260422T041325
CREATED:20260309T214010Z
LAST-MODIFIED:20260309T214010Z
UID:10008228-1824847200-1824854340@www.shopvillagefaire.com
SUMMARY:After Hours Music with rotation DJs (Same Same)
DESCRIPTION:Late nights\, loud vibes.\nEvery week at Same Same \n10 PM til the mood says otherwise. \nNo cover\, no rules—just music.
URL:https://www.shopvillagefaire.com/event/friday-night-djs-same-same/2027-10-29/
LOCATION:Same Same\, 300 Carlsbad Village Dr Suite 213\, Carlsbad\, CA\, 92008\, United States
CATEGORIES:Live Music
ATTACH;FMTTYPE=image/png:https://www.shopvillagefaire.com/wp-content/uploads/2025/03/Friday-Night-After-Hours-Music-with-rotating-DJs-Same-Same.png
ORGANIZER;CN="Same Same":MAILTO:sup@samesamecarlsbad.com
END:VEVENT
BEGIN:VEVENT
DTSTART;TZID=America/Los_Angeles:20271030T220000
DTEND;TZID=America/Los_Angeles:20271030T235900
DTSTAMP:20260422T041325
CREATED:20260309T214133Z
LAST-MODIFIED:20260309T214401Z
UID:10008750-1824933600-1824940740@www.shopvillagefaire.com
SUMMARY:After Hours Music with rotation DJs (Same Same)
DESCRIPTION:Late nights\, loud vibes.\nEvery week at Same Same \n10 PM til the mood says otherwise. \nNo cover\, no rules—just music.
URL:https://www.shopvillagefaire.com/event/saturday-night-djs-same-same/2027-10-30/
LOCATION:Same Same\, 300 Carlsbad Village Dr Suite 213\, Carlsbad\, CA\, 92008\, United States
CATEGORIES:Live Music
ATTACH;FMTTYPE=image/png:https://www.shopvillagefaire.com/wp-content/uploads/2025/03/Saturday-Night-After-Hours-Music-with-rotating-DJs-Same-Same.png
ORGANIZER;CN="Same Same":MAILTO:sup@samesamecarlsbad.com
END:VEVENT
BEGIN:VEVENT
DTSTART;TZID=America/Los_Angeles:20271105T220000
DTEND;TZID=America/Los_Angeles:20271105T235900
DTSTAMP:20260422T041325
CREATED:20260309T214010Z
LAST-MODIFIED:20260309T214010Z
UID:10008229-1825452000-1825459140@www.shopvillagefaire.com
SUMMARY:After Hours Music with rotation DJs (Same Same)
DESCRIPTION:Late nights\, loud vibes.\nEvery week at Same Same \n10 PM til the mood says otherwise. \nNo cover\, no rules—just music.
URL:https://www.shopvillagefaire.com/event/friday-night-djs-same-same/2027-11-05/
LOCATION:Same Same\, 300 Carlsbad Village Dr Suite 213\, Carlsbad\, CA\, 92008\, United States
CATEGORIES:Live Music
ATTACH;FMTTYPE=image/png:https://www.shopvillagefaire.com/wp-content/uploads/2025/03/Friday-Night-After-Hours-Music-with-rotating-DJs-Same-Same.png
ORGANIZER;CN="Same Same":MAILTO:sup@samesamecarlsbad.com
END:VEVENT
BEGIN:VEVENT
DTSTART;TZID=America/Los_Angeles:20271106T220000
DTEND;TZID=America/Los_Angeles:20271106T235900
DTSTAMP:20260422T041325
CREATED:20260309T214133Z
LAST-MODIFIED:20260309T214401Z
UID:10008751-1825538400-1825545540@www.shopvillagefaire.com
SUMMARY:After Hours Music with rotation DJs (Same Same)
DESCRIPTION:Late nights\, loud vibes.\nEvery week at Same Same \n10 PM til the mood says otherwise. \nNo cover\, no rules—just music.
URL:https://www.shopvillagefaire.com/event/saturday-night-djs-same-same/2027-11-06/
LOCATION:Same Same\, 300 Carlsbad Village Dr Suite 213\, Carlsbad\, CA\, 92008\, United States
CATEGORIES:Live Music
ATTACH;FMTTYPE=image/png:https://www.shopvillagefaire.com/wp-content/uploads/2025/03/Saturday-Night-After-Hours-Music-with-rotating-DJs-Same-Same.png
ORGANIZER;CN="Same Same":MAILTO:sup@samesamecarlsbad.com
END:VEVENT
BEGIN:VEVENT
DTSTART;TZID=America/Los_Angeles:20271112T220000
DTEND;TZID=America/Los_Angeles:20271112T235900
DTSTAMP:20260422T041325
CREATED:20260309T214010Z
LAST-MODIFIED:20260309T214010Z
UID:10008230-1826056800-1826063940@www.shopvillagefaire.com
SUMMARY:After Hours Music with rotation DJs (Same Same)
DESCRIPTION:Late nights\, loud vibes.\nEvery week at Same Same \n10 PM til the mood says otherwise. \nNo cover\, no rules—just music.
URL:https://www.shopvillagefaire.com/event/friday-night-djs-same-same/2027-11-12/
LOCATION:Same Same\, 300 Carlsbad Village Dr Suite 213\, Carlsbad\, CA\, 92008\, United States
CATEGORIES:Live Music
ATTACH;FMTTYPE=image/png:https://www.shopvillagefaire.com/wp-content/uploads/2025/03/Friday-Night-After-Hours-Music-with-rotating-DJs-Same-Same.png
ORGANIZER;CN="Same Same":MAILTO:sup@samesamecarlsbad.com
END:VEVENT
BEGIN:VEVENT
DTSTART;TZID=America/Los_Angeles:20271113T220000
DTEND;TZID=America/Los_Angeles:20271113T235900
DTSTAMP:20260422T041325
CREATED:20260309T214133Z
LAST-MODIFIED:20260309T214401Z
UID:10008752-1826143200-1826150340@www.shopvillagefaire.com
SUMMARY:After Hours Music with rotation DJs (Same Same)
DESCRIPTION:Late nights\, loud vibes.\nEvery week at Same Same \n10 PM til the mood says otherwise. \nNo cover\, no rules—just music.
URL:https://www.shopvillagefaire.com/event/saturday-night-djs-same-same/2027-11-13/
LOCATION:Same Same\, 300 Carlsbad Village Dr Suite 213\, Carlsbad\, CA\, 92008\, United States
CATEGORIES:Live Music
ATTACH;FMTTYPE=image/png:https://www.shopvillagefaire.com/wp-content/uploads/2025/03/Saturday-Night-After-Hours-Music-with-rotating-DJs-Same-Same.png
ORGANIZER;CN="Same Same":MAILTO:sup@samesamecarlsbad.com
END:VEVENT
BEGIN:VEVENT
DTSTART;TZID=America/Los_Angeles:20271119T220000
DTEND;TZID=America/Los_Angeles:20271119T235900
DTSTAMP:20260422T041325
CREATED:20260309T214010Z
LAST-MODIFIED:20260309T214010Z
UID:10008231-1826661600-1826668740@www.shopvillagefaire.com
SUMMARY:After Hours Music with rotation DJs (Same Same)
DESCRIPTION:Late nights\, loud vibes.\nEvery week at Same Same \n10 PM til the mood says otherwise. \nNo cover\, no rules—just music.
URL:https://www.shopvillagefaire.com/event/friday-night-djs-same-same/2027-11-19/
LOCATION:Same Same\, 300 Carlsbad Village Dr Suite 213\, Carlsbad\, CA\, 92008\, United States
CATEGORIES:Live Music
ATTACH;FMTTYPE=image/png:https://www.shopvillagefaire.com/wp-content/uploads/2025/03/Friday-Night-After-Hours-Music-with-rotating-DJs-Same-Same.png
ORGANIZER;CN="Same Same":MAILTO:sup@samesamecarlsbad.com
END:VEVENT
BEGIN:VEVENT
DTSTART;TZID=America/Los_Angeles:20271120T220000
DTEND;TZID=America/Los_Angeles:20271120T235900
DTSTAMP:20260422T041325
CREATED:20260309T214133Z
LAST-MODIFIED:20260309T214401Z
UID:10008753-1826748000-1826755140@www.shopvillagefaire.com
SUMMARY:After Hours Music with rotation DJs (Same Same)
DESCRIPTION:Late nights\, loud vibes.\nEvery week at Same Same \n10 PM til the mood says otherwise. \nNo cover\, no rules—just music.
URL:https://www.shopvillagefaire.com/event/saturday-night-djs-same-same/2027-11-20/
LOCATION:Same Same\, 300 Carlsbad Village Dr Suite 213\, Carlsbad\, CA\, 92008\, United States
CATEGORIES:Live Music
ATTACH;FMTTYPE=image/png:https://www.shopvillagefaire.com/wp-content/uploads/2025/03/Saturday-Night-After-Hours-Music-with-rotating-DJs-Same-Same.png
ORGANIZER;CN="Same Same":MAILTO:sup@samesamecarlsbad.com
END:VEVENT
BEGIN:VEVENT
DTSTART;TZID=America/Los_Angeles:20271126T220000
DTEND;TZID=America/Los_Angeles:20271126T235900
DTSTAMP:20260422T041325
CREATED:20260309T214010Z
LAST-MODIFIED:20260309T214010Z
UID:10008232-1827266400-1827273540@www.shopvillagefaire.com
SUMMARY:After Hours Music with rotation DJs (Same Same)
DESCRIPTION:Late nights\, loud vibes.\nEvery week at Same Same \n10 PM til the mood says otherwise. \nNo cover\, no rules—just music.
URL:https://www.shopvillagefaire.com/event/friday-night-djs-same-same/2027-11-26/
LOCATION:Same Same\, 300 Carlsbad Village Dr Suite 213\, Carlsbad\, CA\, 92008\, United States
CATEGORIES:Live Music
ATTACH;FMTTYPE=image/png:https://www.shopvillagefaire.com/wp-content/uploads/2025/03/Friday-Night-After-Hours-Music-with-rotating-DJs-Same-Same.png
ORGANIZER;CN="Same Same":MAILTO:sup@samesamecarlsbad.com
END:VEVENT
BEGIN:VEVENT
DTSTART;TZID=America/Los_Angeles:20271127T220000
DTEND;TZID=America/Los_Angeles:20271127T235900
DTSTAMP:20260422T041325
CREATED:20260309T214133Z
LAST-MODIFIED:20260309T214401Z
UID:10008754-1827352800-1827359940@www.shopvillagefaire.com
SUMMARY:After Hours Music with rotation DJs (Same Same)
DESCRIPTION:Late nights\, loud vibes.\nEvery week at Same Same \n10 PM til the mood says otherwise. \nNo cover\, no rules—just music.
URL:https://www.shopvillagefaire.com/event/saturday-night-djs-same-same/2027-11-27/
LOCATION:Same Same\, 300 Carlsbad Village Dr Suite 213\, Carlsbad\, CA\, 92008\, United States
CATEGORIES:Live Music
ATTACH;FMTTYPE=image/png:https://www.shopvillagefaire.com/wp-content/uploads/2025/03/Saturday-Night-After-Hours-Music-with-rotating-DJs-Same-Same.png
ORGANIZER;CN="Same Same":MAILTO:sup@samesamecarlsbad.com
END:VEVENT
BEGIN:VEVENT
DTSTART;TZID=America/Los_Angeles:20271203T220000
DTEND;TZID=America/Los_Angeles:20271203T235900
DTSTAMP:20260422T041325
CREATED:20260309T214010Z
LAST-MODIFIED:20260309T214010Z
UID:10008233-1827871200-1827878340@www.shopvillagefaire.com
SUMMARY:After Hours Music with rotation DJs (Same Same)
DESCRIPTION:Late nights\, loud vibes.\nEvery week at Same Same \n10 PM til the mood says otherwise. \nNo cover\, no rules—just music.
URL:https://www.shopvillagefaire.com/event/friday-night-djs-same-same/2027-12-03/
LOCATION:Same Same\, 300 Carlsbad Village Dr Suite 213\, Carlsbad\, CA\, 92008\, United States
CATEGORIES:Live Music
ATTACH;FMTTYPE=image/png:https://www.shopvillagefaire.com/wp-content/uploads/2025/03/Friday-Night-After-Hours-Music-with-rotating-DJs-Same-Same.png
ORGANIZER;CN="Same Same":MAILTO:sup@samesamecarlsbad.com
END:VEVENT
BEGIN:VEVENT
DTSTART;TZID=America/Los_Angeles:20271204T220000
DTEND;TZID=America/Los_Angeles:20271204T235900
DTSTAMP:20260422T041325
CREATED:20260309T214133Z
LAST-MODIFIED:20260309T214401Z
UID:10008755-1827957600-1827964740@www.shopvillagefaire.com
SUMMARY:After Hours Music with rotation DJs (Same Same)
DESCRIPTION:Late nights\, loud vibes.\nEvery week at Same Same \n10 PM til the mood says otherwise. \nNo cover\, no rules—just music.
URL:https://www.shopvillagefaire.com/event/saturday-night-djs-same-same/2027-12-04/
LOCATION:Same Same\, 300 Carlsbad Village Dr Suite 213\, Carlsbad\, CA\, 92008\, United States
CATEGORIES:Live Music
ATTACH;FMTTYPE=image/png:https://www.shopvillagefaire.com/wp-content/uploads/2025/03/Saturday-Night-After-Hours-Music-with-rotating-DJs-Same-Same.png
ORGANIZER;CN="Same Same":MAILTO:sup@samesamecarlsbad.com
END:VEVENT
END:VCALENDAR