BEGIN:VCALENDAR
VERSION:2.0
PRODID:-//Village Faire - ECPv6.15.20//NONSGML v1.0//EN
CALSCALE:GREGORIAN
METHOD:PUBLISH
X-WR-CALNAME:Village Faire
X-ORIGINAL-URL:https://www.shopvillagefaire.com
X-WR-CALDESC:Events for Village Faire
REFRESH-INTERVAL;VALUE=DURATION:PT1H
X-Robots-Tag:noindex
X-PUBLISHED-TTL:PT1H
BEGIN:VTIMEZONE
TZID:America/Los_Angeles
BEGIN:DAYLIGHT
TZOFFSETFROM:-0800
TZOFFSETTO:-0700
TZNAME:PDT
DTSTART:20240310T100000
END:DAYLIGHT
BEGIN:STANDARD
TZOFFSETFROM:-0700
TZOFFSETTO:-0800
TZNAME:PST
DTSTART:20241103T090000
END:STANDARD
BEGIN:DAYLIGHT
TZOFFSETFROM:-0800
TZOFFSETTO:-0700
TZNAME:PDT
DTSTART:20250309T100000
END:DAYLIGHT
BEGIN:STANDARD
TZOFFSETFROM:-0700
TZOFFSETTO:-0800
TZNAME:PST
DTSTART:20251102T090000
END:STANDARD
BEGIN:DAYLIGHT
TZOFFSETFROM:-0800
TZOFFSETTO:-0700
TZNAME:PDT
DTSTART:20260308T100000
END:DAYLIGHT
BEGIN:STANDARD
TZOFFSETFROM:-0700
TZOFFSETTO:-0800
TZNAME:PST
DTSTART:20261101T090000
END:STANDARD
END:VTIMEZONE
BEGIN:VEVENT
DTSTART;TZID=America/Los_Angeles:20250510T130000
DTEND;TZID=America/Los_Angeles:20250510T170000
DTSTAMP:20260424T090206
CREATED:20250415T165027Z
LAST-MODIFIED:20250508T203511Z
UID:10007198-1746882000-1746896400@www.shopvillagefaire.com
SUMMARY:🌸 Mother’s Day Special Event at Mermaids Boutique 🌸
DESCRIPTION:Please join us our Mother’s Day Special Event at Mermaids Boutique\n📅 Date: Saturday\, May 10\, 2025 \n🕐 Time: 1:00 PM – 5:00 PM \n📍 Location: Mermaids Boutique300 Carlsbad Village Drive\, Suite 105Carlsbad\, CA 92008 \n💝 Event Highlights:Celebrate Mom with an afternoon of shopping\, bubbly\, and thoughtful touches at Mermaids Boutique. \n🥂 Enjoy champagne\, snacks\, and storewide specials🎁 Complimentary gift wrapping🖼️ Handcrafted wall plaques and keepsakes🎉 Enter to win a $100 gift certificate with any purchase of $100+ \nCome shop\, sip\, and celebrate all the moms in your life!
URL:https://www.shopvillagefaire.com/event/mermaids-boutique-mothers-day-2025/
LOCATION:Mermaids Boutique\, 300 Carlsbad Blvd # 105\, Carlsbad\, CA\, 92008
CATEGORIES:Pop Up Event
ATTACH;FMTTYPE=image/png:https://www.shopvillagefaire.com/wp-content/uploads/2025/04/Copy-of-Mothers-Day-Brunch-Peonies.png
END:VEVENT
END:VCALENDAR