BEGIN:VCALENDAR
VERSION:2.0
PRODID:-//Village Faire - ECPv6.15.20//NONSGML v1.0//EN
CALSCALE:GREGORIAN
METHOD:PUBLISH
X-WR-CALNAME:Village Faire
X-ORIGINAL-URL:https://www.shopvillagefaire.com
X-WR-CALDESC:Events for Village Faire
REFRESH-INTERVAL;VALUE=DURATION:PT1H
X-Robots-Tag:noindex
X-PUBLISHED-TTL:PT1H
BEGIN:VTIMEZONE
TZID:America/Los_Angeles
BEGIN:DAYLIGHT
TZOFFSETFROM:-0800
TZOFFSETTO:-0700
TZNAME:PDT
DTSTART:20250309T100000
END:DAYLIGHT
BEGIN:STANDARD
TZOFFSETFROM:-0700
TZOFFSETTO:-0800
TZNAME:PST
DTSTART:20251102T090000
END:STANDARD
BEGIN:DAYLIGHT
TZOFFSETFROM:-0800
TZOFFSETTO:-0700
TZNAME:PDT
DTSTART:20260308T100000
END:DAYLIGHT
BEGIN:STANDARD
TZOFFSETFROM:-0700
TZOFFSETTO:-0800
TZNAME:PST
DTSTART:20261101T090000
END:STANDARD
BEGIN:DAYLIGHT
TZOFFSETFROM:-0800
TZOFFSETTO:-0700
TZNAME:PDT
DTSTART:20270314T100000
END:DAYLIGHT
BEGIN:STANDARD
TZOFFSETFROM:-0700
TZOFFSETTO:-0800
TZNAME:PST
DTSTART:20271107T090000
END:STANDARD
END:VTIMEZONE
BEGIN:VEVENT
DTSTART;TZID=America/Los_Angeles:20260417T180000
DTEND;TZID=America/Los_Angeles:20260417T220000
DTSTAMP:20260421T020802
CREATED:20240529T175904Z
LAST-MODIFIED:20260327T194650Z
UID:10008951-1776448800-1776463200@www.shopvillagefaire.com
SUMMARY:April and the Funk Junkies
DESCRIPTION:The Funk Junkies\, one of San Diego’s premier dance bands\, will get YOU up while THEY get down! Their unique blend of rhythm and hi-energy fun(k!)\, is addictive and will leave you wanting more. Whether it’s Disco\, R&B\, or just plain Funk\, this exceptional band covers the music you love from the 70’s through today. Try us once…you’ll be addicted.
URL:https://www.shopvillagefaire.com/event/april-and-the-funk-junkies-2/2026-04-17/
LOCATION:Coyote Bar & Grill\, 300 Carlsbad Village Dr\, Carlsbad\, CA\, 92008\, United States
CATEGORIES:Live Music
ATTACH;FMTTYPE=image/jpeg:https://www.shopvillagefaire.com/wp-content/uploads/2024/05/April-and-the-Funk-Junkies-Band.jpeg
END:VEVENT
BEGIN:VEVENT
DTSTART;TZID=America/Los_Angeles:20260417T220000
DTEND;TZID=America/Los_Angeles:20260417T235900
DTSTAMP:20260421T020802
CREATED:20260309T214010Z
LAST-MODIFIED:20260309T214010Z
UID:10008148-1776463200-1776470340@www.shopvillagefaire.com
SUMMARY:After Hours Music with rotation DJs (Same Same)
DESCRIPTION:Late nights\, loud vibes.\nEvery week at Same Same \n10 PM til the mood says otherwise. \nNo cover\, no rules—just music.
URL:https://www.shopvillagefaire.com/event/friday-night-djs-same-same/2026-04-17/
LOCATION:Same Same\, 300 Carlsbad Village Dr Suite 213\, Carlsbad\, CA\, 92008\, United States
CATEGORIES:Live Music
ATTACH;FMTTYPE=image/png:https://www.shopvillagefaire.com/wp-content/uploads/2025/03/Friday-Night-After-Hours-Music-with-rotating-DJs-Same-Same.png
ORGANIZER;CN="Same Same":MAILTO:sup@samesamecarlsbad.com
END:VEVENT
BEGIN:VEVENT
DTSTART;TZID=America/Los_Angeles:20260417T220000
DTEND;TZID=America/Los_Angeles:20260418T013000
DTSTAMP:20260421T020802
CREATED:20250606T162130Z
LAST-MODIFIED:20260327T190618Z
UID:10008931-1776463200-1776475800@www.shopvillagefaire.com
SUMMARY:DJ Gary B and DJ TreFlip
DESCRIPTION:Join DJ Gary B and DJ TreFlip for a night of lively music and dancing. \nAbout Coyote Bar and Grill\nNestled in the heart of downtown Carlsbad\, Coyote Bar and Grill offers a laid-back beach vibe with nightly entertainment including music\, karaoke & a dance floor\, delicious food\, and killer cocktails.
URL:https://www.shopvillagefaire.com/event/dj-gary-b-and-dj-treflip-8/2026-04-17/
LOCATION:Coyote Bar & Grill\, 300 Carlsbad Village Dr\, Carlsbad\, CA\, 92008\, United States
CATEGORIES:Live Music
ATTACH;FMTTYPE=image/jpeg:https://www.shopvillagefaire.com/wp-content/uploads/2023/12/DJ-Gary-B-and-DJ-TreFlip-—-Coyote-Bar-Grill-Carlsbad.jpeg
END:VEVENT
END:VCALENDAR