BEGIN:VCALENDAR
VERSION:2.0
PRODID:-//Village Faire - ECPv6.15.20//NONSGML v1.0//EN
CALSCALE:GREGORIAN
METHOD:PUBLISH
X-ORIGINAL-URL:https://www.shopvillagefaire.com
X-WR-CALDESC:Events for Village Faire
REFRESH-INTERVAL;VALUE=DURATION:PT1H
X-Robots-Tag:noindex
X-PUBLISHED-TTL:PT1H
BEGIN:VTIMEZONE
TZID:America/Los_Angeles
BEGIN:DAYLIGHT
TZOFFSETFROM:-0800
TZOFFSETTO:-0700
TZNAME:PDT
DTSTART:20230312T100000
END:DAYLIGHT
BEGIN:STANDARD
TZOFFSETFROM:-0700
TZOFFSETTO:-0800
TZNAME:PST
DTSTART:20231105T090000
END:STANDARD
BEGIN:DAYLIGHT
TZOFFSETFROM:-0800
TZOFFSETTO:-0700
TZNAME:PDT
DTSTART:20240310T100000
END:DAYLIGHT
BEGIN:STANDARD
TZOFFSETFROM:-0700
TZOFFSETTO:-0800
TZNAME:PST
DTSTART:20241103T090000
END:STANDARD
BEGIN:DAYLIGHT
TZOFFSETFROM:-0800
TZOFFSETTO:-0700
TZNAME:PDT
DTSTART:20250309T100000
END:DAYLIGHT
BEGIN:STANDARD
TZOFFSETFROM:-0700
TZOFFSETTO:-0800
TZNAME:PST
DTSTART:20251102T090000
END:STANDARD
END:VTIMEZONE
BEGIN:VEVENT
DTSTART;TZID=America/Los_Angeles:20240601T000000
DTEND;TZID=America/Los_Angeles:20240620T000000
DTSTAMP:20260424T130808
CREATED:20240604T053746Z
LAST-MODIFIED:20240604T053746Z
UID:10005396-1717200000-1718841600@www.shopvillagefaire.com
SUMMARY:Silent Auction - Support Youth Art Program
DESCRIPTION:Come meet Lilly\, a whimsical gourd listed in the Library of Congress and come with an official Birth Certificate of authenticity. We are proud to be able to offer art and support our local artists. \nThe Silent Auction is hosted monthly the first three-weeks of each month\, and supports our community programs\, and is 100% tax-deductible with all of the proceeds going toward our programs. You can bid online or at the gallery. \nVisit our website at Silent Auctions online at:  https://northcoastalartgallery.com/silent-art-auction-by-local-artists or bid at the gallery. \nWinners need not be present to win\, and they are announced on the 20th of each month. So add to your collections and know that you are advocating for the arts in the best of ways! \nThank you\, and hope to see you soon!
URL:https://www.shopvillagefaire.com/event/silent-auction-support-youth-art-program/
LOCATION:North Coastal Art Gallery\, 300 Carlsbad Village Drive\, Suite 101\, Carlsbad\, CA\, 92008\, United States
CATEGORIES:Special Event
ATTACH;FMTTYPE=image/png:https://www.shopvillagefaire.com/wp-content/uploads/2024/06/Copy-of-JUN-Silent-Auction-6-x-4-in-Your-Story.png
ORGANIZER;CN="North Coastal Art Gallery":MAILTO:info@northcoastalartgallery.com
END:VEVENT
BEGIN:VEVENT
DTSTART;TZID=America/Los_Angeles:20240603T180000
DTEND;TZID=America/Los_Angeles:20240603T220000
DTSTAMP:20260424T130808
CREATED:20240105T015510Z
LAST-MODIFIED:20240105T023608Z
UID:10001823-1717437600-1717452000@www.shopvillagefaire.com
SUMMARY:Karaoke Monday (The Coyote Bar and Grill)
DESCRIPTION:Sing Your Heart Out\nAre You Ready to Be a Star? This Monday at The Coyote Bar & Grill! \nPicture this: It’s Monday night. The stage is set. The spotlight is on you. And the mic? It’s in your hand at The Coyote Bar & Grill\, North County San Diego’s premier karaoke destination. \nYour voice.\nYour stage.\nYour night. \nWhether you’re the next rock legend\, shower-singing sensation\, or 1st time behind the mic\, this is your moment. \nMake this Monday night unforgettable. Step into the spotlight. Sing like nobody’s watching. \nIt’s Not Just Karaoke. It’s Your Showtime at The Coyote Bar & Grill!
URL:https://www.shopvillagefaire.com/event/carlsbad-karaoke/2024-06-03/
LOCATION:Coyote Bar & Grill\, 300 Carlsbad Village Dr\, Carlsbad\, CA\, 92008\, United States
CATEGORIES:Karaoke
ATTACH;FMTTYPE=image/png:https://www.shopvillagefaire.com/wp-content/uploads/2023/01/1.png
END:VEVENT
END:VCALENDAR