BEGIN:VCALENDAR
VERSION:2.0
PRODID:-//Village Faire - ECPv6.15.20//NONSGML v1.0//EN
CALSCALE:GREGORIAN
METHOD:PUBLISH
X-WR-CALNAME:Village Faire
X-ORIGINAL-URL:https://www.shopvillagefaire.com
X-WR-CALDESC:Events for Village Faire
REFRESH-INTERVAL;VALUE=DURATION:PT1H
X-Robots-Tag:noindex
X-PUBLISHED-TTL:PT1H
BEGIN:VTIMEZONE
TZID:America/Los_Angeles
BEGIN:DAYLIGHT
TZOFFSETFROM:-0800
TZOFFSETTO:-0700
TZNAME:PDT
DTSTART:20230312T100000
END:DAYLIGHT
BEGIN:STANDARD
TZOFFSETFROM:-0700
TZOFFSETTO:-0800
TZNAME:PST
DTSTART:20231105T090000
END:STANDARD
BEGIN:DAYLIGHT
TZOFFSETFROM:-0800
TZOFFSETTO:-0700
TZNAME:PDT
DTSTART:20240310T100000
END:DAYLIGHT
BEGIN:STANDARD
TZOFFSETFROM:-0700
TZOFFSETTO:-0800
TZNAME:PST
DTSTART:20241103T090000
END:STANDARD
BEGIN:DAYLIGHT
TZOFFSETFROM:-0800
TZOFFSETTO:-0700
TZNAME:PDT
DTSTART:20250309T100000
END:DAYLIGHT
BEGIN:STANDARD
TZOFFSETFROM:-0700
TZOFFSETTO:-0800
TZNAME:PST
DTSTART:20251102T090000
END:STANDARD
END:VTIMEZONE
BEGIN:VEVENT
DTSTART;VALUE=DATE:20240505
DTEND;VALUE=DATE:20240601
DTSTAMP:20260424T083319
CREATED:20240202T012245Z
LAST-MODIFIED:20240202T015802Z
UID:10003983-1714874400-1717120799@www.shopvillagefaire.com
SUMMARY:Inspire" Youth Art Exhibition
DESCRIPTION:Calling Young San Diego Artists!\nNorth Coastal Art Gallery proudly presents “Inspire\,” a youth art exhibition open to all San Diego County students from grades 1 through 12. North Coastal Art Gallery is on the lookout for young artists to showcase their visual art talents in our May 2024 exhibition! \n“Inspire” is more than an art show; it’s an opportunity for budding artists to experience the thrill of entering a competition\, exhibiting their work\, and receiving recognition for their creativity and hard work. \nJoin us in celebrating the artistic gifts of our youth. Help us discover those who excel in visual arts and provide them with a platform to shine. \nKey Details: \n\nSubmission Deadline: April 15\, 2024\nAwards Ceremony & Reception: Celebrate the achievements of our talented young artists (Details to be announced on our website).\nExhibition Access: Free to the public throughout the event.\n\nFor more information\, please get in touch with the Youth Show Chair\, Charlotte Colosia\, at charlotte.charcee@gmail.com and visit the website for application details at https://northcoastalartgallery.com/programs-for-artists/. \nLet’s inspire our youth to new heights of creativity!\n \nInspire” Youth Art Exhibition\n📅  May 5th to 30th\, 2024 \n📍 North Coastal Art Gallery\n300 Carlsbad Village Drive\, #108\nCarlsbad CA 92008
URL:https://www.shopvillagefaire.com/event/inspire-youth-art-exhibition/
LOCATION:North Coastal Art Gallery\, 300 Carlsbad Village Drive\, Suite 101\, Carlsbad\, CA\, 92008\, United States
CATEGORIES:Pop Up Event
ATTACH;FMTTYPE=image/png:https://www.shopvillagefaire.com/wp-content/uploads/2024/02/22Inspire22-Youth-Art-Exhibition.png
ORGANIZER;CN="North Coastal Art Gallery":MAILTO:info@northcoastalartgallery.com
END:VEVENT
BEGIN:VEVENT
DTSTART;TZID=America/Los_Angeles:20240519T100000
DTEND;TZID=America/Los_Angeles:20240519T130000
DTSTAMP:20260424T083319
CREATED:20240502T185857Z
LAST-MODIFIED:20240514T192538Z
UID:10004827-1716112800-1716123600@www.shopvillagefaire.com
SUMMARY:Treat Yo' Self Carlsbad - 3rd Annual Event for Mental Health Awareness Month
DESCRIPTION:Have you heard of Treat Yo’ Self Carlsbad (where are our Parks & Rec fans at? 🙋🏽‍♀️)? \nJoin us for the 3rd Annual Treat Yo’ Self Carlsbad for Mental Health Awareness Month! \nWe’ll have free activities like yoga by Yoga On State\, breathwork\, kids activities with Arielle\, Love On A Leash San Diego is bringing dogs\, live music by Joe Welnick\, and food and beverages to enjoy! \nEvent hosted by Team Priya Bhat-Patel \nSponsored by: Carlsbad Chamber of Commerce\, Carlsbad Village Association\, Republic Services\, Choice Superfood Bar & Juicery\, Love On A Leash\, Gelato Love
URL:https://www.shopvillagefaire.com/event/treat-yo-self-carlsbad-3rd-annual-event-for-mental-health-awareness-month/
LOCATION:Village Faire Shopping Center\, 300 Carlsbad Village Dr\, Carlsbad\, CA\, 92008\, United States
CATEGORIES:Special Event
ATTACH;FMTTYPE=image/jpeg:https://www.shopvillagefaire.com/wp-content/uploads/2024/05/439598416_1125087505443391_4111283343880562187_n.jpg
END:VEVENT
BEGIN:VEVENT
DTSTART;TZID=America/Los_Angeles:20240519T130000
DTEND;TZID=America/Los_Angeles:20240519T150000
DTSTAMP:20260424T083319
CREATED:20240403T150015Z
LAST-MODIFIED:20240403T150021Z
UID:10003708-1716123600-1716130800@www.shopvillagefaire.com
SUMMARY:Live on Village Drive (Gregorio's)
DESCRIPTION:Indulge in a delightful happy hour evening\, dinner\, and live music at Gregorio’s Italian Restaurant inside Village Faire at 300 Carlsbad Village Drive! Immerse yourself in the enchanting melodies of talented local artists. \nGregorio’s Italian Restaurant inside Village Faire\n300 Carlsbad Village Drive\, Carlsbad Village CA 92008
URL:https://www.shopvillagefaire.com/event/live-on-village-drive-49-2-2-2/2024-05-19/
LOCATION:Gregorio’s Restaurant\, 300 Carlsbad Village Dr Ste 208\, Carlsbad\, CA\, 92008
CATEGORIES:Live Music
ATTACH;FMTTYPE=image/jpeg:https://www.shopvillagefaire.com/wp-content/uploads/2023/05/Live-on-Village-Drive-Carlsbad-CA-LIVE-MUSIC.jpeg
END:VEVENT
BEGIN:VEVENT
DTSTART;TZID=America/Los_Angeles:20240519T130000
DTEND;TZID=America/Los_Angeles:20240519T160000
DTSTAMP:20260424T083319
CREATED:20240502T175708Z
LAST-MODIFIED:20240502T181242Z
UID:10002588-1716123600-1716134400@www.shopvillagefaire.com
SUMMARY:Sunday Afro Beats in the Courtyard
DESCRIPTION:Sunday Afro Beats in the Courtyard 🦁\nDJ crew from the Back to Cali store spins Afro Beats \nEnjoy this free event and fun for all ages; join us in the courtyard at the Village Faire in the heart of Carlsbad Village. \nAfro Beat Sundays🎵 \nThe Courtyard at the Village Faire\n📍300 Carlsbad Village Dr.\nCarlsbad\, CA 92008
URL:https://www.shopvillagefaire.com/event/carlsbad-sunday-reggae-2-2/
LOCATION:Village Faire Shopping Center\, 300 Carlsbad Village Dr\, Carlsbad\, CA\, 92008\, United States
CATEGORIES:Live Music
ATTACH;FMTTYPE=image/png:https://www.shopvillagefaire.com/wp-content/uploads/2024/05/Afro-Beat-Sunday-by-Back-to-Cali-Static-Village-Faire-.png
END:VEVENT
BEGIN:VEVENT
DTSTART;TZID=America/Los_Angeles:20240519T130000
DTEND;TZID=America/Los_Angeles:20240519T160000
DTSTAMP:20260424T083319
CREATED:20240502T182055Z
LAST-MODIFIED:20241204T184230Z
UID:10004819-1716123600-1716134400@www.shopvillagefaire.com
SUMMARY:Cillian's Bridge
DESCRIPTION:Orange County\, California-based band that has great energy and plays a variety of favorites with a nod to their Irish roots. With the spirit of Celtic rock blended with the catchy melodies of pop\, this band plays a perfect hybrid of relatable\, fun music from the 80s through today. This is a band with complex\, powerful sets that leave fans wondering why the original songs weren’t done exactly like the way Cillian’s Bridge does them!
URL:https://www.shopvillagefaire.com/event/cillians-bridge/2024-05-19/
LOCATION:Coyote Bar & Grill\, 300 Carlsbad Village Dr\, Carlsbad\, CA\, 92008\, United States
CATEGORIES:Live Music
ATTACH;FMTTYPE=image/jpeg:https://www.shopvillagefaire.com/wp-content/uploads/2024/05/CillianBridge.jpeg
END:VEVENT
END:VCALENDAR