BEGIN:VCALENDAR
VERSION:2.0
PRODID:-//Village Faire - ECPv6.15.20//NONSGML v1.0//EN
CALSCALE:GREGORIAN
METHOD:PUBLISH
X-ORIGINAL-URL:https://www.shopvillagefaire.com
X-WR-CALDESC:Events for Village Faire
REFRESH-INTERVAL;VALUE=DURATION:PT1H
X-Robots-Tag:noindex
X-PUBLISHED-TTL:PT1H
BEGIN:VTIMEZONE
TZID:America/Los_Angeles
BEGIN:DAYLIGHT
TZOFFSETFROM:-0800
TZOFFSETTO:-0700
TZNAME:PDT
DTSTART:20230312T100000
END:DAYLIGHT
BEGIN:STANDARD
TZOFFSETFROM:-0700
TZOFFSETTO:-0800
TZNAME:PST
DTSTART:20231105T090000
END:STANDARD
BEGIN:DAYLIGHT
TZOFFSETFROM:-0800
TZOFFSETTO:-0700
TZNAME:PDT
DTSTART:20240310T100000
END:DAYLIGHT
BEGIN:STANDARD
TZOFFSETFROM:-0700
TZOFFSETTO:-0800
TZNAME:PST
DTSTART:20241103T090000
END:STANDARD
BEGIN:DAYLIGHT
TZOFFSETFROM:-0800
TZOFFSETTO:-0700
TZNAME:PDT
DTSTART:20250309T100000
END:DAYLIGHT
BEGIN:STANDARD
TZOFFSETFROM:-0700
TZOFFSETTO:-0800
TZNAME:PST
DTSTART:20251102T090000
END:STANDARD
END:VTIMEZONE
BEGIN:VEVENT
DTSTART;VALUE=DATE:20240505
DTEND;VALUE=DATE:20240601
DTSTAMP:20260420T112323
CREATED:20240202T012245Z
LAST-MODIFIED:20240202T015802Z
UID:10003983-1714874400-1717120799@www.shopvillagefaire.com
SUMMARY:Inspire" Youth Art Exhibition
DESCRIPTION:Calling Young San Diego Artists!\nNorth Coastal Art Gallery proudly presents “Inspire\,” a youth art exhibition open to all San Diego County students from grades 1 through 12. North Coastal Art Gallery is on the lookout for young artists to showcase their visual art talents in our May 2024 exhibition! \n“Inspire” is more than an art show; it’s an opportunity for budding artists to experience the thrill of entering a competition\, exhibiting their work\, and receiving recognition for their creativity and hard work. \nJoin us in celebrating the artistic gifts of our youth. Help us discover those who excel in visual arts and provide them with a platform to shine. \nKey Details: \n\nSubmission Deadline: April 15\, 2024\nAwards Ceremony & Reception: Celebrate the achievements of our talented young artists (Details to be announced on our website).\nExhibition Access: Free to the public throughout the event.\n\nFor more information\, please get in touch with the Youth Show Chair\, Charlotte Colosia\, at charlotte.charcee@gmail.com and visit the website for application details at https://northcoastalartgallery.com/programs-for-artists/. \nLet’s inspire our youth to new heights of creativity!\n \nInspire” Youth Art Exhibition\n📅  May 5th to 30th\, 2024 \n📍 North Coastal Art Gallery\n300 Carlsbad Village Drive\, #108\nCarlsbad CA 92008
URL:https://www.shopvillagefaire.com/event/inspire-youth-art-exhibition/
LOCATION:North Coastal Art Gallery\, 300 Carlsbad Village Drive\, Suite 101\, Carlsbad\, CA\, 92008\, United States
CATEGORIES:Pop Up Event
ATTACH;FMTTYPE=image/png:https://www.shopvillagefaire.com/wp-content/uploads/2024/02/22Inspire22-Youth-Art-Exhibition.png
ORGANIZER;CN="North Coastal Art Gallery":MAILTO:info@northcoastalartgallery.com
END:VEVENT
BEGIN:VEVENT
DTSTART;TZID=America/Los_Angeles:20240507T180000
DTEND;TZID=America/Los_Angeles:20240507T220000
DTSTAMP:20260420T112323
CREATED:20240502T172303Z
LAST-MODIFIED:20240529T173340Z
UID:10004801-1715104800-1715119200@www.shopvillagefaire.com
SUMMARY:Arnie and Friends
DESCRIPTION:Classic Rock\, Funk\, Disco\, Pop and Latin.Doobie Brothers\, Toto\, Journey\, Santana\, Sublime\, KC And the Sunshine Band. Very dance-oriented music from the 60’s thru 90’s and some modern hits.
URL:https://www.shopvillagefaire.com/event/arnie-and-friends/2024-05-07/
LOCATION:Coyote Bar & Grill\, 300 Carlsbad Village Dr\, Carlsbad\, CA\, 92008\, United States
CATEGORIES:Live Music
ATTACH;FMTTYPE=image/jpeg:https://www.shopvillagefaire.com/wp-content/uploads/2024/05/ArnieandFriends.jpeg
END:VEVENT
END:VCALENDAR