BEGIN:VCALENDAR
VERSION:2.0
PRODID:-//Village Faire - ECPv6.15.20//NONSGML v1.0//EN
CALSCALE:GREGORIAN
METHOD:PUBLISH
X-ORIGINAL-URL:https://www.shopvillagefaire.com
X-WR-CALDESC:Events for Village Faire
REFRESH-INTERVAL;VALUE=DURATION:PT1H
X-Robots-Tag:noindex
X-PUBLISHED-TTL:PT1H
BEGIN:VTIMEZONE
TZID:America/Los_Angeles
BEGIN:DAYLIGHT
TZOFFSETFROM:-0800
TZOFFSETTO:-0700
TZNAME:PDT
DTSTART:20230312T100000
END:DAYLIGHT
BEGIN:STANDARD
TZOFFSETFROM:-0700
TZOFFSETTO:-0800
TZNAME:PST
DTSTART:20231105T090000
END:STANDARD
BEGIN:DAYLIGHT
TZOFFSETFROM:-0800
TZOFFSETTO:-0700
TZNAME:PDT
DTSTART:20240310T100000
END:DAYLIGHT
BEGIN:STANDARD
TZOFFSETFROM:-0700
TZOFFSETTO:-0800
TZNAME:PST
DTSTART:20241103T090000
END:STANDARD
BEGIN:DAYLIGHT
TZOFFSETFROM:-0800
TZOFFSETTO:-0700
TZNAME:PDT
DTSTART:20250309T100000
END:DAYLIGHT
BEGIN:STANDARD
TZOFFSETFROM:-0700
TZOFFSETTO:-0800
TZNAME:PST
DTSTART:20251102T090000
END:STANDARD
END:VTIMEZONE
BEGIN:VEVENT
DTSTART;TZID=America/Los_Angeles:20240502T043000
DTEND;TZID=America/Los_Angeles:20240502T063000
DTSTAMP:20260422T085821
CREATED:20231002T184504Z
LAST-MODIFIED:20240502T164619Z
UID:10004721-1714624200-1714631400@www.shopvillagefaire.com
SUMMARY:Music in the Courtyard with Adrienne Nims
DESCRIPTION:Extraordinary global music from multi-instrumentalist Adrienne Nims resonates deep in the heart and soul!\nAdrienne Nims will take you on a musical journey with lush harmonies\, mystical melodies\, and global rhythms. \nJazz\, Pop\, Latin\, Traditional\, Celtic\, and beyond.
URL:https://www.shopvillagefaire.com/event/music-in-the-courtyard-with-adrienne-nims-2023-11-30/2024-05-02/
LOCATION:Village Faire Shopping Center\, 300 Carlsbad Village Dr\, Carlsbad\, CA\, 92008\, United States
CATEGORIES:Live Music
ATTACH;FMTTYPE=image/jpeg:https://www.shopvillagefaire.com/wp-content/uploads/2022/11/Adrienne-Nims-Carlsbad-Village-Faire-scaled.jpeg
END:VEVENT
BEGIN:VEVENT
DTSTART;TZID=America/Los_Angeles:20240502T123000
DTEND;TZID=America/Los_Angeles:20240502T143000
DTSTAMP:20260422T085821
CREATED:20240502T164248Z
LAST-MODIFIED:20240502T164502Z
UID:10004783-1714653000-1714660200@www.shopvillagefaire.com
SUMMARY:Music in the Courtyard with Adrienne Nims
DESCRIPTION:Extraordinary global music from multi-instrumentalist Adrienne Nims resonates deep in the heart and soul!\nAdrienne Nims will take you on a musical journey with lush harmonies\, mystical melodies\, and global rhythms. \nJazz\, Pop\, Latin\, Traditional\, Celtic\, and beyond.
URL:https://www.shopvillagefaire.com/event/music-program-by-adrienne-nims/2024-05-02/
LOCATION:Village Faire Shopping Center\, 300 Carlsbad Village Dr\, Carlsbad\, CA\, 92008\, United States
CATEGORIES:Live Music
ATTACH;FMTTYPE=image/jpeg:https://www.shopvillagefaire.com/wp-content/uploads/2022/11/Adrienne-Nims-Carlsbad-Village-Faire-scaled.jpeg
END:VEVENT
BEGIN:VEVENT
DTSTART;TZID=America/Los_Angeles:20240502T170000
DTEND;TZID=America/Los_Angeles:20240502T210000
DTSTAMP:20260422T085821
CREATED:20231205T224517Z
LAST-MODIFIED:20260327T192541Z
UID:10004785-1714669200-1714683600@www.shopvillagefaire.com
SUMMARY:Cadillac Fringe (live)
DESCRIPTION:Classic Rock
URL:https://www.shopvillagefaire.com/event/cadillac-fringe-5/2024-05-02/
LOCATION:Coyote Bar & Grill\, 300 Carlsbad Village Dr\, Carlsbad\, CA\, 92008\, United States
CATEGORIES:Live Music
ATTACH;FMTTYPE=image/png:https://www.shopvillagefaire.com/wp-content/uploads/2023/07/CADILLAC-FRINGE.png
END:VEVENT
END:VCALENDAR