BEGIN:VCALENDAR
VERSION:2.0
PRODID:-//Village Faire - ECPv6.15.20//NONSGML v1.0//EN
CALSCALE:GREGORIAN
METHOD:PUBLISH
X-ORIGINAL-URL:https://www.shopvillagefaire.com
X-WR-CALDESC:Events for Village Faire
REFRESH-INTERVAL;VALUE=DURATION:PT1H
X-Robots-Tag:noindex
X-PUBLISHED-TTL:PT1H
BEGIN:VTIMEZONE
TZID:America/Los_Angeles
BEGIN:DAYLIGHT
TZOFFSETFROM:-0800
TZOFFSETTO:-0700
TZNAME:PDT
DTSTART:20230312T100000
END:DAYLIGHT
BEGIN:STANDARD
TZOFFSETFROM:-0700
TZOFFSETTO:-0800
TZNAME:PST
DTSTART:20231105T090000
END:STANDARD
BEGIN:DAYLIGHT
TZOFFSETFROM:-0800
TZOFFSETTO:-0700
TZNAME:PDT
DTSTART:20240310T100000
END:DAYLIGHT
BEGIN:STANDARD
TZOFFSETFROM:-0700
TZOFFSETTO:-0800
TZNAME:PST
DTSTART:20241103T090000
END:STANDARD
BEGIN:DAYLIGHT
TZOFFSETFROM:-0800
TZOFFSETTO:-0700
TZNAME:PDT
DTSTART:20250309T100000
END:DAYLIGHT
BEGIN:STANDARD
TZOFFSETFROM:-0700
TZOFFSETTO:-0800
TZNAME:PST
DTSTART:20251102T090000
END:STANDARD
END:VTIMEZONE
BEGIN:VEVENT
DTSTART;TZID=America/Los_Angeles:20240406T130000
DTEND;TZID=America/Los_Angeles:20240406T150000
DTSTAMP:20260420T080057
CREATED:20240403T150135Z
LAST-MODIFIED:20240403T150140Z
UID:10003180-1712408400-1712415600@www.shopvillagefaire.com
SUMMARY:Live on Village Drive (Gregorio's)
DESCRIPTION:Indulge in a delightful happy hour evening\, dinner\, and live music at Gregorio’s Italian Restaurant inside Village Faire at 300 Carlsbad Village Drive! Immerse yourself in the enchanting melodies of talented local artists. \nGregorio’s Italian Restaurant inside Village Faire\n300 Carlsbad Village Drive\, Carlsbad Village CA 92008
URL:https://www.shopvillagefaire.com/event/live-on-village-drive-49-2-3/2024-04-06/
LOCATION:Gregorio’s Restaurant\, 300 Carlsbad Village Dr Ste 208\, Carlsbad\, CA\, 92008
CATEGORIES:Live Music
ATTACH;FMTTYPE=image/jpeg:https://www.shopvillagefaire.com/wp-content/uploads/2023/05/Live-on-Village-Drive-Carlsbad-CA-LIVE-MUSIC.jpeg
END:VEVENT
BEGIN:VEVENT
DTSTART;TZID=America/Los_Angeles:20240406T130000
DTEND;TZID=America/Los_Angeles:20240406T163000
DTSTAMP:20260420T080057
CREATED:20231205T225521Z
LAST-MODIFIED:20251104T054137Z
UID:10004679-1712408400-1712421000@www.shopvillagefaire.com
SUMMARY:Steamers
DESCRIPTION:Steamers’ a band with an Americana style performance.
URL:https://www.shopvillagefaire.com/event/steamers-5/2024-04-06/
LOCATION:Coyote Bar & Grill\, 300 Carlsbad Village Dr\, Carlsbad\, CA\, 92008\, United States
CATEGORIES:Live Music
ATTACH;FMTTYPE=image/jpeg:https://www.shopvillagefaire.com/wp-content/uploads/2023/09/Steamers2017a-JfKEa7.tmp_.jpg
END:VEVENT
BEGIN:VEVENT
DTSTART;TZID=America/Los_Angeles:20240406T180000
DTEND;TZID=America/Los_Angeles:20240406T220000
DTSTAMP:20260420T080057
CREATED:20230927T204500Z
LAST-MODIFIED:20260102T054342Z
UID:10004680-1712426400-1712440800@www.shopvillagefaire.com
SUMMARY:The Evidence Band
DESCRIPTION:Dance Covers
URL:https://www.shopvillagefaire.com/event/the-evidence-band-4/2024-04-06/
LOCATION:Coyote Bar & Grill\, 300 Carlsbad Village Dr\, Carlsbad\, CA\, 92008\, United States
CATEGORIES:Live Music
ATTACH;FMTTYPE=image/jpeg:https://www.shopvillagefaire.com/wp-content/uploads/2023/09/EvidenceBand-93Bd8G.tmp_.jpg
END:VEVENT
END:VCALENDAR