BEGIN:VCALENDAR
VERSION:2.0
PRODID:-//Village Faire - ECPv6.15.20//NONSGML v1.0//EN
CALSCALE:GREGORIAN
METHOD:PUBLISH
X-ORIGINAL-URL:https://www.shopvillagefaire.com
X-WR-CALDESC:Events for Village Faire
REFRESH-INTERVAL;VALUE=DURATION:PT1H
X-Robots-Tag:noindex
X-PUBLISHED-TTL:PT1H
BEGIN:VTIMEZONE
TZID:America/Los_Angeles
BEGIN:DAYLIGHT
TZOFFSETFROM:-0800
TZOFFSETTO:-0700
TZNAME:PDT
DTSTART:20230312T100000
END:DAYLIGHT
BEGIN:STANDARD
TZOFFSETFROM:-0700
TZOFFSETTO:-0800
TZNAME:PST
DTSTART:20231105T090000
END:STANDARD
BEGIN:DAYLIGHT
TZOFFSETFROM:-0800
TZOFFSETTO:-0700
TZNAME:PDT
DTSTART:20240310T100000
END:DAYLIGHT
BEGIN:STANDARD
TZOFFSETFROM:-0700
TZOFFSETTO:-0800
TZNAME:PST
DTSTART:20241103T090000
END:STANDARD
BEGIN:DAYLIGHT
TZOFFSETFROM:-0800
TZOFFSETTO:-0700
TZNAME:PDT
DTSTART:20250309T100000
END:DAYLIGHT
BEGIN:STANDARD
TZOFFSETFROM:-0700
TZOFFSETTO:-0800
TZNAME:PST
DTSTART:20251102T090000
END:STANDARD
END:VTIMEZONE
BEGIN:VEVENT
DTSTART;TZID=America/Los_Angeles:20240402T180000
DTEND;TZID=America/Los_Angeles:20240402T220000
DTSTAMP:20260420T095954
CREATED:20231205T224920Z
LAST-MODIFIED:20260102T060135Z
UID:10004703-1712080800-1712095200@www.shopvillagefaire.com
SUMMARY:Mystique Element of Soul
DESCRIPTION:Soul\, Funk\, R&B Dance Covers
URL:https://www.shopvillagefaire.com/event/mystique-element-of-soul-3/2024-04-02/
LOCATION:Coyote Bar & Grill\, 300 Carlsbad Village Dr\, Carlsbad\, CA\, 92008\, United States
CATEGORIES:Live Music
ATTACH;FMTTYPE=image/jpeg:https://www.shopvillagefaire.com/wp-content/uploads/2023/12/Mystique-Element-of-Soul.jpg
END:VEVENT
BEGIN:VEVENT
DTSTART;TZID=America/Los_Angeles:20240403T000000
DTEND;TZID=America/Los_Angeles:20240403T000000
DTSTAMP:20260420T095954
CREATED:20240403T172708Z
LAST-MODIFIED:20260102T061844Z
UID:10004695-1712102400-1712102400@www.shopvillagefaire.com
SUMMARY:DJ Dremotion (live)
DESCRIPTION:
URL:https://www.shopvillagefaire.com/event/dj-dremotion-live/2024-04-03/
LOCATION:Coyote Bar & Grill\, 300 Carlsbad Village Dr\, Carlsbad\, CA\, 92008\, United States
CATEGORIES:Live Music
ATTACH;FMTTYPE=image/jpeg:https://www.shopvillagefaire.com/wp-content/uploads/2024/03/DJ-Dremotion-1.jpg
END:VEVENT
END:VCALENDAR