BEGIN:VCALENDAR
VERSION:2.0
PRODID:-//Village Faire - ECPv6.15.20//NONSGML v1.0//EN
CALSCALE:GREGORIAN
METHOD:PUBLISH
X-WR-CALNAME:Village Faire
X-ORIGINAL-URL:https://www.shopvillagefaire.com
X-WR-CALDESC:Events for Village Faire
REFRESH-INTERVAL;VALUE=DURATION:PT1H
X-Robots-Tag:noindex
X-PUBLISHED-TTL:PT1H
BEGIN:VTIMEZONE
TZID:America/Los_Angeles
BEGIN:DAYLIGHT
TZOFFSETFROM:-0800
TZOFFSETTO:-0700
TZNAME:PDT
DTSTART:20230312T100000
END:DAYLIGHT
BEGIN:STANDARD
TZOFFSETFROM:-0700
TZOFFSETTO:-0800
TZNAME:PST
DTSTART:20231105T090000
END:STANDARD
BEGIN:DAYLIGHT
TZOFFSETFROM:-0800
TZOFFSETTO:-0700
TZNAME:PDT
DTSTART:20240310T100000
END:DAYLIGHT
BEGIN:STANDARD
TZOFFSETFROM:-0700
TZOFFSETTO:-0800
TZNAME:PST
DTSTART:20241103T090000
END:STANDARD
BEGIN:DAYLIGHT
TZOFFSETFROM:-0800
TZOFFSETTO:-0700
TZNAME:PDT
DTSTART:20250309T100000
END:DAYLIGHT
BEGIN:STANDARD
TZOFFSETFROM:-0700
TZOFFSETTO:-0800
TZNAME:PST
DTSTART:20251102T090000
END:STANDARD
END:VTIMEZONE
BEGIN:VEVENT
DTSTART;TZID=America/Los_Angeles:20240315T180000
DTEND;TZID=America/Los_Angeles:20240315T182000
DTSTAMP:20260422T025039
CREATED:20240316T011847Z
LAST-MODIFIED:20250303T220338Z
UID:10006811-1710525600-1710526800@www.shopvillagefaire.com
SUMMARY:RCFA Pipes & Drums Band (live)
DESCRIPTION:
URL:https://www.shopvillagefaire.com/event/rcfa-pipes-drums-band-live/2024-03-15/
LOCATION:Coyote Bar & Grill\, 300 Carlsbad Village Dr\, Carlsbad\, CA\, 92008\, United States
CATEGORIES:Live Music
ATTACH;FMTTYPE=image/jpeg:https://www.shopvillagefaire.com/wp-content/uploads/2024/03/RCFA-Pipes-Drums-Band.jpeg
END:VEVENT
BEGIN:VEVENT
DTSTART;TZID=America/Los_Angeles:20240315T193000
DTEND;TZID=America/Los_Angeles:20240315T233000
DTSTAMP:20260422T025039
CREATED:20240316T003536Z
LAST-MODIFIED:20250313T171104Z
UID:10004543-1710531000-1710545400@www.shopvillagefaire.com
SUMMARY:Dollar Bill Band Live
DESCRIPTION:American Heroes & Brew’s got your entertainment covered with live music three times each week featuring local bands\, setting the perfect vibe for a memorable and fun night out. Jam out on Friday and Saturday nights from 7 til close\, and Sundays.
URL:https://www.shopvillagefaire.com/event/dollar-bill-band-tentative/2024-03-15/
LOCATION:American Heroes & Brew\, 300 Carlsbad Village Dr #120\, Carlsbad\, CA\, 92008
CATEGORIES:Live Music
END:VEVENT
END:VCALENDAR